BEGIN:VCALENDAR
VERSION:2.0
PRODID:-//Kevin Zadai - ECPv6.9.0//NONSGML v1.0//EN
CALSCALE:GREGORIAN
METHOD:PUBLISH
X-ORIGINAL-URL:https://kevinzadai.com
X-WR-CALDESC:Events for Kevin Zadai
REFRESH-INTERVAL;VALUE=DURATION:PT1H
X-Robots-Tag:noindex
X-PUBLISHED-TTL:PT1H
BEGIN:VTIMEZONE
TZID:America/Chicago
BEGIN:DAYLIGHT
TZOFFSETFROM:-0600
TZOFFSETTO:-0500
TZNAME:CDT
DTSTART:20250309T080000
END:DAYLIGHT
BEGIN:STANDARD
TZOFFSETFROM:-0500
TZOFFSETTO:-0600
TZNAME:CST
DTSTART:20251102T070000
END:STANDARD
BEGIN:DAYLIGHT
TZOFFSETFROM:-0600
TZOFFSETTO:-0500
TZNAME:CDT
DTSTART:20260308T080000
END:DAYLIGHT
BEGIN:STANDARD
TZOFFSETFROM:-0500
TZOFFSETTO:-0600
TZNAME:CST
DTSTART:20261101T070000
END:STANDARD
END:VTIMEZONE
BEGIN:VEVENT
DTSTART;VALUE=DATE:20260410
DTEND;VALUE=DATE:20260413
DTSTAMP:20260424T133504
CREATED:20251216T004931Z
LAST-MODIFIED:20260330T233228Z
UID:6009-1775779200-1776038399@kevinzadai.com
SUMMARY:Charlotte\, NC Mentoring Impartation Weekend and Spring Graduation
DESCRIPTION:Warrior Notes Conference and Graduation! \nDr. Kevin and Kathi Zadai would love you to join them at their Charlotte\, NC Warrior Notes Mentoring Impartation Weekend and Spring Graduation. This is an immersive experience where you’ll encounter God’s glory through worship\, fellowship\, and teaching. \nDon’t worry if you can’t make it to all the services. Attend the sessions you can and experience the presence of God! \nWe hope to see you there! \nApril 10-12\, 2025 \nApril 10\, Friday\, Pre-service prayer: 6:30pm\, Graduation: 7pm* \nApril 11\, Saturday\, 9am\, 2:30pm\, 6:30pm* \nApril 12\, Sunday\, 9am* \nRegistration is required to attend. Seating is limited. \nRegister Now \n*Doors open one hour before the event starts. \nNo Pets Allowed\, Service Animals Welcome \n**Parking is Complimentary**
URL:https://kevinzadai.com/event/charlotte-graduation/
LOCATION:Embassy Suites by Hilton Charlotte/Ayrsley\, 1917 Ayrsley Town Blvd\, Charlotte\, NC\, 28273
CATEGORIES:Charlotte NC Conferences,Graduations,Mentoring
ATTACH;FMTTYPE=image/jpeg:https://kevinzadai.com/wp-content/uploads/2025/12/Charlotte-Spring-Graduation.jpg
ORGANIZER;CN="Rachel Benson":MAILTO:events@kevinzadai.org
END:VEVENT
BEGIN:VEVENT
DTSTART;VALUE=DATE:20250627
DTEND;VALUE=DATE:20250630
DTSTAMP:20260424T133504
CREATED:20250117T192700Z
LAST-MODIFIED:20250207T022446Z
UID:5658-1750982400-1751241599@kevinzadai.com
SUMMARY:Charlotte\, NC Spirit School and Spring Graduation
DESCRIPTION:Warrior Notes Spirit School and Graduation! \nDr. Kevin and Kathi Zadai would love you to join them at their Charlotte\, NC Warrior Notes Spirit School and Spring Graduation. This Spirit School is an immersive experience where you’ll encounter God’s glory through worship\, fellowship\, and teaching. \nDon’t worry if you can’t make it to all the services. Attend the sessions you can and experience the presence of God! \nWe hope to see you there! \nJune 27-29\, 2025 \nJune 27\, Friday\, Pre-service prayer: 6:30pm\, Graduation: 7pm * \nJune 28\, Saturday\, 9am\, 2:30pm\, 6:30pm * \nJune 29\, Sunday\, 9am * \nRegistration is required to attend. Seating is limited. \nRegister Now \n*Doors open one hour before the event starts. \nNo Pets Allowed\, Service Animals Welcome \nIf you plan to watch the event online and not attend in person\, you do not need to register for this event. \n**Parking is Complimentary.**
URL:https://kevinzadai.com/event/charlotte-nc/
LOCATION:Embassy Suites by Hilton Charlotte/Ayrsley\, 1917 Ayrsley Town Blvd\, Charlotte\, NC\, 28273
CATEGORIES:Charlotte NC Conferences,Graduations,Spirit Schools
ATTACH;FMTTYPE=image/jpeg:https://kevinzadai.com/wp-content/uploads/2025/01/charlotte-6-25.jpg
ORGANIZER;CN="Rachel Benson":MAILTO:events@kevinzadai.org
END:VEVENT
END:VCALENDAR